Package: PIPETS Version: 1.2.0 Command: /Library/Frameworks/R.framework/Resources/bin/R CMD INSTALL PIPETS StartedAt: 2025-02-10 15:17:39 -0500 (Mon, 10 Feb 2025) EndedAt: 2025-02-10 15:18:05 -0500 (Mon, 10 Feb 2025) EllapsedTime: 25.9 seconds RetCode: 0 Status: OK