Package: PIPETS Version: 1.2.0 Command: /home/biocbuild/bbs-3.20-bioc/R/bin/R CMD check --install=check:PIPETS.install-out.txt --library=/home/biocbuild/bbs-3.20-bioc/R/site-library --timings PIPETS_1.2.0.tar.gz StartedAt: 2025-02-11 01:05:15 -0500 (Tue, 11 Feb 2025) EndedAt: 2025-02-11 01:06:35 -0500 (Tue, 11 Feb 2025) EllapsedTime: 80.1 seconds RetCode: 0 Status: OK CheckDir: PIPETS.Rcheck Warnings: 0