Package: PIUMA Version: 1.2.0 Command: rm -rf PIUMA.buildbin-libdir && mkdir PIUMA.buildbin-libdir && /Users/biocbuild/BBS/utils/build-universal.sh PIUMA_1.2.0.tar.gz /Library/Frameworks/R.framework/Resources/bin/R PIUMA.buildbin-libdir StartedAt: 2025-02-05 17:08:21 -0500 (Wed, 05 Feb 2025) EndedAt: 2025-02-05 17:08:58 -0500 (Wed, 05 Feb 2025) EllapsedTime: 36.4 seconds RetCode: 0 Status: OK PackageFile: PIUMA_1.2.0.tgz PackageFileSize: 3.349 MiB