Package: PIUMA Version: 1.2.0 Command: rm -rf PIUMA.buildbin-libdir && mkdir PIUMA.buildbin-libdir && /Users/biocbuild/BBS/utils/build-universal.sh PIUMA_1.2.0.tar.gz /Library/Frameworks/R.framework/Resources/bin/R PIUMA.buildbin-libdir StartedAt: 2025-02-04 13:47:46 -0500 (Tue, 04 Feb 2025) EndedAt: 2025-02-04 13:49:26 -0500 (Tue, 04 Feb 2025) EllapsedTime: 99.5 seconds RetCode: 0 Status: OK PackageFile: PIUMA_1.2.0.tgz PackageFileSize: 3.335 MiB