Package: PIUMA Version: 1.2.0 Command: /Library/Frameworks/R.framework/Resources/bin/R CMD build --keep-empty-dirs --no-resave-data PIUMA StartedAt: 2025-02-03 21:18:37 -0500 (Mon, 03 Feb 2025) EndedAt: 2025-02-03 21:21:53 -0500 (Mon, 03 Feb 2025) EllapsedTime: 195.7 seconds RetCode: 0 Status: OK PackageFile: PIUMA_1.2.0.tar.gz PackageFileSize: 4.226 MiB