Package: PIUMA Version: 1.2.0 Command: /Library/Frameworks/R.framework/Resources/bin/R CMD check --install=check:PIUMA.install-out.txt --library=/Library/Frameworks/R.framework/Resources/library --no-vignettes --timings PIUMA_1.2.0.tar.gz StartedAt: 2025-02-04 08:02:29 -0500 (Tue, 04 Feb 2025) EndedAt: 2025-02-04 08:10:10 -0500 (Tue, 04 Feb 2025) EllapsedTime: 461.0 seconds RetCode: 0 Status: WARNINGS CheckDir: PIUMA.Rcheck Warnings: 1