Package: PIUMA Version: 1.2.0 Command: /Library/Frameworks/R.framework/Resources/bin/R CMD INSTALL PIUMA StartedAt: 2025-02-03 16:03:10 -0500 (Mon, 03 Feb 2025) EndedAt: 2025-02-03 16:04:09 -0500 (Mon, 03 Feb 2025) EllapsedTime: 58.7 seconds RetCode: 0 Status: OK