Package: PIUMA Version: 1.2.0 Command: /home/biocbuild/bbs-3.20-bioc/R/bin/R CMD build --keep-empty-dirs --no-resave-data --md5 PIUMA StartedAt: 2025-02-10 18:37:29 -0500 (Mon, 10 Feb 2025) EndedAt: 2025-02-10 18:38:44 -0500 (Mon, 10 Feb 2025) EllapsedTime: 75.1 seconds RetCode: 0 Status: OK PackageFile: PIUMA_1.2.0.tar.gz PackageFileSize: 4.168 MiB