Package: POWSC Version: 1.14.0 Command: /Library/Frameworks/R.framework/Resources/bin/R CMD build --keep-empty-dirs --no-resave-data POWSC StartedAt: 2025-01-31 05:31:57 -0500 (Fri, 31 Jan 2025) EndedAt: 2025-01-31 05:33:29 -0500 (Fri, 31 Jan 2025) EllapsedTime: 91.3 seconds RetCode: 0 Status: OK PackageFile: POWSC_1.14.0.tar.gz PackageFileSize: 1.14 MiB