Package: POWSC Version: 1.14.0 Command: /Library/Frameworks/R.framework/Resources/bin/R CMD check --install=check:POWSC.install-out.txt --library=/Library/Frameworks/R.framework/Resources/library --no-vignettes --timings POWSC_1.14.0.tar.gz StartedAt: 2025-02-01 05:00:48 -0500 (Sat, 01 Feb 2025) EndedAt: 2025-02-01 05:05:33 -0500 (Sat, 01 Feb 2025) EllapsedTime: 285.3 seconds RetCode: 0 Status: OK CheckDir: POWSC.Rcheck Warnings: 0