Package: POWSC Version: 1.14.0 Command: /Library/Frameworks/R.framework/Resources/bin/R CMD build --keep-empty-dirs --no-resave-data POWSC StartedAt: 2025-01-30 21:55:02 -0500 (Thu, 30 Jan 2025) EndedAt: 2025-01-30 21:58:04 -0500 (Thu, 30 Jan 2025) EllapsedTime: 181.8 seconds RetCode: 0 Status: OK PackageFile: POWSC_1.14.0.tar.gz PackageFileSize: 1.14 MiB