Package: PREDA Version: 1.52.0 Command: /Library/Frameworks/R.framework/Resources/bin/R CMD build --keep-empty-dirs --no-resave-data PREDA StartedAt: 2025-01-31 05:36:00 -0500 (Fri, 31 Jan 2025) EndedAt: 2025-01-31 05:38:32 -0500 (Fri, 31 Jan 2025) EllapsedTime: 151.7 seconds RetCode: 0 Status: OK PackageFile: PREDA_1.52.0.tar.gz PackageFileSize: 2.005 MiB