Package: PREDA Version: 1.52.0 Command: /Library/Frameworks/R.framework/Resources/bin/R CMD check --install=check:PREDA.install-out.txt --library=/Library/Frameworks/R.framework/Resources/library --no-vignettes --timings PREDA_1.52.0.tar.gz StartedAt: 2025-02-05 05:53:46 -0500 (Wed, 05 Feb 2025) EndedAt: 2025-02-05 05:55:50 -0500 (Wed, 05 Feb 2025) EllapsedTime: 123.6 seconds RetCode: 0 Status: WARNINGS CheckDir: PREDA.Rcheck Warnings: 1