Package: PREDA Version: 1.52.0 Command: /Library/Frameworks/R.framework/Resources/bin/R CMD INSTALL PREDA StartedAt: 2025-01-30 17:29:42 -0500 (Thu, 30 Jan 2025) EndedAt: 2025-01-30 17:30:05 -0500 (Thu, 30 Jan 2025) EllapsedTime: 23.2 seconds RetCode: 0 Status: OK