Package: PREDA Version: 1.52.0 Command: /Library/Frameworks/R.framework/Resources/bin/R CMD build --keep-empty-dirs --no-resave-data PREDA StartedAt: 2025-01-30 21:55:39 -0500 (Thu, 30 Jan 2025) EndedAt: 2025-01-30 22:00:16 -0500 (Thu, 30 Jan 2025) EllapsedTime: 277.8 seconds RetCode: 0 Status: OK PackageFile: PREDA_1.52.0.tar.gz PackageFileSize: 2.005 MiB