Package: PREDA Version: 1.52.0 Command: /home/biocbuild/bbs-3.20-bioc/R/bin/R CMD INSTALL PREDA StartedAt: 2025-02-03 15:55:03 -0500 (Mon, 03 Feb 2025) EndedAt: 2025-02-03 15:55:24 -0500 (Mon, 03 Feb 2025) EllapsedTime: 21.7 seconds RetCode: 0 Status: OK