Package: PREDA Version: 1.52.0 Command: rm -rf PREDA.buildbin-libdir && mkdir PREDA.buildbin-libdir && F:\biocbuild\bbs-3.20-bioc\R\bin\R.exe CMD INSTALL --build --library=PREDA.buildbin-libdir PREDA_1.52.0.tar.gz StartedAt: 2025-01-31 09:18:34 -0500 (Fri, 31 Jan 2025) EndedAt: 2025-01-31 09:19:39 -0500 (Fri, 31 Jan 2025) EllapsedTime: 65.0 seconds RetCode: 0 Status: OK PackageFile: PREDA_1.52.0.zip PackageFileSize: 1.757 MiB