Package: PREDA Version: 1.52.0 Command: F:\biocbuild\bbs-3.20-bioc\R\bin\R.exe CMD check --no-multiarch --install=check:PREDA.install-out.txt --library=F:\biocbuild\bbs-3.20-bioc\R\library --no-vignettes --timings PREDA_1.52.0.tar.gz StartedAt: 2025-02-04 05:01:20 -0500 (Tue, 04 Feb 2025) EndedAt: 2025-02-04 05:03:37 -0500 (Tue, 04 Feb 2025) EllapsedTime: 136.8 seconds RetCode: 0 Status: WARNINGS CheckDir: PREDA.Rcheck Warnings: 1