Package: PROMISE Version: 1.58.0 Command: rm -rf PROMISE.buildbin-libdir && mkdir PROMISE.buildbin-libdir && /Users/biocbuild/BBS/utils/build-universal.sh PROMISE_1.58.0.tar.gz /Library/Frameworks/R.framework/Resources/bin/R PROMISE.buildbin-libdir StartedAt: 2025-02-05 17:12:19 -0500 (Wed, 05 Feb 2025) EndedAt: 2025-02-05 17:12:38 -0500 (Wed, 05 Feb 2025) EllapsedTime: 19.4 seconds RetCode: 0 Status: OK PackageFile: PROMISE_1.58.0.tgz PackageFileSize: 177.4 KiB