Package: PROMISE Version: 1.58.0 Command: /Library/Frameworks/R.framework/Resources/bin/R CMD build --keep-empty-dirs --no-resave-data PROMISE StartedAt: 2025-02-04 05:49:34 -0500 (Tue, 04 Feb 2025) EndedAt: 2025-02-04 05:50:06 -0500 (Tue, 04 Feb 2025) EllapsedTime: 32.1 seconds RetCode: 0 Status: OK PackageFile: PROMISE_1.58.0.tar.gz PackageFileSize: 135.3 KiB