Package: PROMISE Version: 1.58.0 Command: /Library/Frameworks/R.framework/Resources/bin/R CMD INSTALL PROMISE StartedAt: 2025-02-03 15:41:31 -0500 (Mon, 03 Feb 2025) EndedAt: 2025-02-03 15:41:39 -0500 (Mon, 03 Feb 2025) EllapsedTime: 7.9 seconds RetCode: 0 Status: OK