Package: PROMISE Version: 1.58.0 Command: /Library/Frameworks/R.framework/Resources/bin/R CMD build --keep-empty-dirs --no-resave-data PROMISE StartedAt: 2025-02-03 21:24:59 -0500 (Mon, 03 Feb 2025) EndedAt: 2025-02-03 21:25:56 -0500 (Mon, 03 Feb 2025) EllapsedTime: 57.2 seconds RetCode: 0 Status: OK PackageFile: PROMISE_1.58.0.tar.gz PackageFileSize: 135.3 KiB