Package: PROMISE Version: 1.58.0 Command: /Library/Frameworks/R.framework/Resources/bin/R CMD INSTALL PROMISE StartedAt: 2025-02-03 15:39:09 -0500 (Mon, 03 Feb 2025) EndedAt: 2025-02-03 15:39:42 -0500 (Mon, 03 Feb 2025) EllapsedTime: 32.3 seconds RetCode: 0 Status: OK