Package: PROMISE Version: 1.58.0 Command: /home/biocbuild/bbs-3.20-bioc/R/bin/R CMD build --keep-empty-dirs --no-resave-data --md5 PROMISE StartedAt: 2025-02-03 18:47:55 -0500 (Mon, 03 Feb 2025) EndedAt: 2025-02-03 18:48:18 -0500 (Mon, 03 Feb 2025) EllapsedTime: 23.0 seconds RetCode: 0 Status: OK PackageFile: PROMISE_1.58.0.tar.gz PackageFileSize: 136.2 KiB