Package: PROMISE Version: 1.58.0 Command: rm -rf PROMISE.buildbin-libdir && mkdir PROMISE.buildbin-libdir && F:\biocbuild\bbs-3.20-bioc\R\bin\R.exe CMD INSTALL --build --library=PROMISE.buildbin-libdir PROMISE_1.58.0.tar.gz StartedAt: 2025-02-04 09:13:25 -0500 (Tue, 04 Feb 2025) EndedAt: 2025-02-04 09:13:48 -0500 (Tue, 04 Feb 2025) EllapsedTime: 22.5 seconds RetCode: 0 Status: OK PackageFile: PROMISE_1.58.0.zip PackageFileSize: 182.2 KiB