Package: PROMISE Version: 1.58.0 Command: chmod a+r PROMISE -R && F:\biocbuild\bbs-3.20-bioc\R\bin\R.exe CMD build --keep-empty-dirs --no-resave-data PROMISE StartedAt: 2025-02-03 21:22:39 -0500 (Mon, 03 Feb 2025) EndedAt: 2025-02-03 21:23:10 -0500 (Mon, 03 Feb 2025) EllapsedTime: 30.9 seconds RetCode: 0 Status: OK PackageFile: PROMISE_1.58.0.tar.gz PackageFileSize: 135.7 KiB