Package: PRONE Version: 1.0.2 Command: rm -rf PRONE.buildbin-libdir && mkdir PRONE.buildbin-libdir && /Users/biocbuild/BBS/utils/build-universal.sh PRONE_1.0.2.tar.gz /Library/Frameworks/R.framework/Resources/bin/R PRONE.buildbin-libdir StartedAt: 2025-02-05 17:12:25 -0500 (Wed, 05 Feb 2025) EndedAt: 2025-02-05 17:13:16 -0500 (Wed, 05 Feb 2025) EllapsedTime: 51.1 seconds RetCode: 0 Status: OK PackageFile: PRONE_1.0.2.tgz PackageFileSize: 10.41 MiB