Package: PRONE Version: 1.0.2 Command: rm -rf PRONE.buildbin-libdir && mkdir PRONE.buildbin-libdir && /Users/biocbuild/BBS/utils/build-universal.sh PRONE_1.0.2.tar.gz /Library/Frameworks/R.framework/Resources/bin/R PRONE.buildbin-libdir StartedAt: 2025-02-04 13:50:51 -0500 (Tue, 04 Feb 2025) EndedAt: 2025-02-04 13:53:09 -0500 (Tue, 04 Feb 2025) EllapsedTime: 137.9 seconds RetCode: 0 Status: OK PackageFile: PRONE_1.0.2.tgz PackageFileSize: 10.36 MiB