Package: PRONE Version: 1.0.2 Command: /Library/Frameworks/R.framework/Resources/bin/R CMD build --keep-empty-dirs --no-resave-data PRONE StartedAt: 2025-02-10 21:27:05 -0500 (Mon, 10 Feb 2025) EndedAt: 2025-02-10 21:31:07 -0500 (Mon, 10 Feb 2025) EllapsedTime: 242.7 seconds RetCode: 0 Status: OK PackageFile: PRONE_1.0.2.tar.gz PackageFileSize: 9.991 MiB