Package: PRONE Version: 1.0.2 Command: /Library/Frameworks/R.framework/Resources/bin/R CMD INSTALL PRONE StartedAt: 2025-02-03 16:33:13 -0500 (Mon, 03 Feb 2025) EndedAt: 2025-02-03 16:34:36 -0500 (Mon, 03 Feb 2025) EllapsedTime: 82.8 seconds RetCode: 0 Status: OK