Package: PRONE Version: 1.0.2 Command: rm -rf PRONE.buildbin-libdir && mkdir PRONE.buildbin-libdir && F:\biocbuild\bbs-3.20-bioc\R\bin\R.exe CMD INSTALL --build --library=PRONE.buildbin-libdir PRONE_1.0.2.tar.gz StartedAt: 2025-02-04 09:13:27 -0500 (Tue, 04 Feb 2025) EndedAt: 2025-02-04 09:14:52 -0500 (Tue, 04 Feb 2025) EllapsedTime: 85.2 seconds RetCode: 0 Status: OK PackageFile: PRONE_1.0.2.zip PackageFileSize: 6.595 MiB