Package: PRONE Version: 1.0.2 Command: /home/biocbuild/R/R/bin/R CMD build --keep-empty-dirs --no-resave-data PRONE StartedAt: 2025-02-04 01:57:25 -0000 (Tue, 04 Feb 2025) EndedAt: 2025-02-04 02:00:10 -0000 (Tue, 04 Feb 2025) EllapsedTime: 165.2 seconds RetCode: 0 Status: OK PackageFile: PRONE_1.0.2.tar.gz PackageFileSize: 6.759 MiB