Package: PRONE Version: 1.0.2 Command: /home/biocbuild/R/R/bin/R CMD INSTALL PRONE StartedAt: 2025-02-03 21:14:01 -0000 (Mon, 03 Feb 2025) EndedAt: 2025-02-03 21:14:49 -0000 (Mon, 03 Feb 2025) EllapsedTime: 48.3 seconds RetCode: 0 Status: OK