Package: PROPER Version: 1.38.0 Command: /Library/Frameworks/R.framework/Resources/bin/R CMD check --install=check:PROPER.install-out.txt --library=/Library/Frameworks/R.framework/Resources/library --no-vignettes --timings PROPER_1.38.0.tar.gz StartedAt: 2025-02-01 05:20:11 -0500 (Sat, 01 Feb 2025) EndedAt: 2025-02-01 05:21:00 -0500 (Sat, 01 Feb 2025) EllapsedTime: 49.8 seconds RetCode: 0 Status: WARNINGS CheckDir: PROPER.Rcheck Warnings: 2