Package: PROPER Version: 1.38.0 Command: /home/biocbuild/bbs-3.20-bioc/R/bin/R CMD check --install=check:PROPER.install-out.txt --library=/home/biocbuild/bbs-3.20-bioc/R/site-library --timings PROPER_1.38.0.tar.gz StartedAt: 2025-02-04 01:23:37 -0500 (Tue, 04 Feb 2025) EndedAt: 2025-02-04 01:24:14 -0500 (Tue, 04 Feb 2025) EllapsedTime: 37.0 seconds RetCode: 0 Status: WARNINGS CheckDir: PROPER.Rcheck Warnings: 2