Package: PROPER Version: 1.38.0 Command: /home/biocbuild/bbs-3.20-bioc/R/bin/R CMD INSTALL PROPER StartedAt: 2025-01-30 15:08:00 -0500 (Thu, 30 Jan 2025) EndedAt: 2025-01-30 15:08:03 -0500 (Thu, 30 Jan 2025) EllapsedTime: 3.2 seconds RetCode: 0 Status: OK