Package: PROPER Version: 1.38.0 Command: chmod a+r PROPER -R && F:\biocbuild\bbs-3.20-bioc\R\bin\R.exe CMD build --keep-empty-dirs --no-resave-data PROPER StartedAt: 2025-02-03 21:22:49 -0500 (Mon, 03 Feb 2025) EndedAt: 2025-02-03 21:23:13 -0500 (Mon, 03 Feb 2025) EllapsedTime: 23.7 seconds RetCode: 0 Status: OK PackageFile: PROPER_1.38.0.tar.gz PackageFileSize: 1.801 MiB