Package: PROPER Version: 1.38.0 Command: /home/biocbuild/R/R/bin/R CMD build --keep-empty-dirs --no-resave-data PROPER StartedAt: 2025-02-04 01:57:42 -0000 (Tue, 04 Feb 2025) EndedAt: 2025-02-04 01:57:51 -0000 (Tue, 04 Feb 2025) EllapsedTime: 9.0 seconds RetCode: 0 Status: OK PackageFile: PROPER_1.38.0.tar.gz PackageFileSize: 1.791 MiB