Package: PWMEnrich Version: 4.42.0 Command: rm -rf PWMEnrich.buildbin-libdir && mkdir PWMEnrich.buildbin-libdir && /Users/biocbuild/BBS/utils/build-universal.sh PWMEnrich_4.42.0.tar.gz /Library/Frameworks/R.framework/Resources/bin/R PWMEnrich.buildbin-libdir StartedAt: 2025-02-11 14:11:50 -0500 (Tue, 11 Feb 2025) EndedAt: 2025-02-11 14:12:34 -0500 (Tue, 11 Feb 2025) EllapsedTime: 44.5 seconds RetCode: 0 Status: OK PackageFile: PWMEnrich_4.42.0.tgz PackageFileSize: 1.99 MiB