Package: PWMEnrich Version: 4.42.0 Command: /Library/Frameworks/R.framework/Resources/bin/R CMD build --keep-empty-dirs --no-resave-data PWMEnrich StartedAt: 2025-02-10 21:29:27 -0500 (Mon, 10 Feb 2025) EndedAt: 2025-02-10 21:32:04 -0500 (Mon, 10 Feb 2025) EllapsedTime: 157.0 seconds RetCode: 0 Status: OK PackageFile: PWMEnrich_4.42.0.tar.gz PackageFileSize: 1.571 MiB