Package: PWMEnrich Version: 4.42.0 Command: /Library/Frameworks/R.framework/Resources/bin/R CMD INSTALL PWMEnrich StartedAt: 2025-02-10 15:18:42 -0500 (Mon, 10 Feb 2025) EndedAt: 2025-02-10 15:19:13 -0500 (Mon, 10 Feb 2025) EllapsedTime: 30.8 seconds RetCode: 0 Status: OK