Package: PWMEnrich Version: 4.42.0 Command: /home/biocbuild/bbs-3.20-bioc/R/bin/R CMD INSTALL PWMEnrich StartedAt: 2025-02-10 15:21:16 -0500 (Mon, 10 Feb 2025) EndedAt: 2025-02-10 15:21:27 -0500 (Mon, 10 Feb 2025) EllapsedTime: 11.3 seconds RetCode: 0 Status: OK