Package: PWMEnrich Version: 4.42.0 Command: rm -rf PWMEnrich.buildbin-libdir && mkdir PWMEnrich.buildbin-libdir && F:\biocbuild\bbs-3.20-bioc\R\bin\R.exe CMD INSTALL --build --library=PWMEnrich.buildbin-libdir PWMEnrich_4.42.0.tar.gz StartedAt: 2025-02-04 09:14:09 -0500 (Tue, 04 Feb 2025) EndedAt: 2025-02-04 09:15:18 -0500 (Tue, 04 Feb 2025) EllapsedTime: 69.0 seconds RetCode: 0 Status: OK PackageFile: PWMEnrich_4.42.0.zip PackageFileSize: 1.99 MiB