Package: PWMEnrich Version: 4.42.0 Command: /home/biocbuild/R/R/bin/R CMD check --install=check:PWMEnrich.install-out.txt --library=/home/biocbuild/R/R/site-library --no-vignettes --timings PWMEnrich_4.42.0.tar.gz StartedAt: 2025-02-04 10:05:55 -0000 (Tue, 04 Feb 2025) EndedAt: 2025-02-04 10:08:01 -0000 (Tue, 04 Feb 2025) EllapsedTime: 126.2 seconds RetCode: 0 Status: OK CheckDir: PWMEnrich.Rcheck Warnings: 0