Package: PathoStat Version: 1.32.0 Command: rm -rf PathoStat.buildbin-libdir && mkdir PathoStat.buildbin-libdir && /Users/biocbuild/BBS/utils/build-universal.sh PathoStat_1.32.0.tar.gz /Library/Frameworks/R.framework/Resources/bin/R PathoStat.buildbin-libdir StartedAt: 2025-02-05 17:04:59 -0500 (Wed, 05 Feb 2025) EndedAt: 2025-02-05 17:05:44 -0500 (Wed, 05 Feb 2025) EllapsedTime: 45.0 seconds RetCode: 0 Status: OK PackageFile: PathoStat_1.32.0.tgz PackageFileSize: 1.046 MiB