Package: PathoStat Version: 1.32.0 Command: /Library/Frameworks/R.framework/Resources/bin/R CMD build --keep-empty-dirs --no-resave-data PathoStat StartedAt: 2025-02-04 05:19:31 -0500 (Tue, 04 Feb 2025) EndedAt: 2025-02-04 05:20:17 -0500 (Tue, 04 Feb 2025) EllapsedTime: 46.2 seconds RetCode: 0 Status: OK PackageFile: PathoStat_1.32.0.tar.gz PackageFileSize: 947.7 KiB