Package: PathoStat Version: 1.32.0 Command: /Library/Frameworks/R.framework/Resources/bin/R CMD check --install=check:PathoStat.install-out.txt --library=/Library/Frameworks/R.framework/Resources/library --no-vignettes --timings PathoStat_1.32.0.tar.gz StartedAt: 2025-02-05 04:59:47 -0500 (Wed, 05 Feb 2025) EndedAt: 2025-02-05 05:05:01 -0500 (Wed, 05 Feb 2025) EllapsedTime: 314.4 seconds RetCode: 0 Status: OK CheckDir: PathoStat.Rcheck Warnings: 0