Package: PathoStat Version: 1.32.0 Command: rm -rf PathoStat.buildbin-libdir && mkdir PathoStat.buildbin-libdir && /Users/biocbuild/BBS/utils/build-universal.sh PathoStat_1.32.0.tar.gz /Library/Frameworks/R.framework/Resources/bin/R PathoStat.buildbin-libdir StartedAt: 2025-02-04 13:44:50 -0500 (Tue, 04 Feb 2025) EndedAt: 2025-02-04 13:47:19 -0500 (Tue, 04 Feb 2025) EllapsedTime: 148.9 seconds RetCode: 0 Status: OK PackageFile: PathoStat_1.32.0.tgz PackageFileSize: 1.046 MiB