Package: PathoStat Version: 1.32.0 Command: /Library/Frameworks/R.framework/Resources/bin/R CMD build --keep-empty-dirs --no-resave-data PathoStat StartedAt: 2025-02-10 21:12:39 -0500 (Mon, 10 Feb 2025) EndedAt: 2025-02-10 21:14:07 -0500 (Mon, 10 Feb 2025) EllapsedTime: 88.0 seconds RetCode: 0 Status: OK PackageFile: PathoStat_1.32.0.tar.gz PackageFileSize: 947.9 KiB