Package: PathoStat Version: 1.32.0 Command: /home/biocbuild/bbs-3.20-bioc/R/bin/R CMD INSTALL PathoStat StartedAt: 2025-02-03 15:56:10 -0500 (Mon, 03 Feb 2025) EndedAt: 2025-02-03 15:56:49 -0500 (Mon, 03 Feb 2025) EllapsedTime: 39.7 seconds RetCode: 0 Status: OK